BEGIN:VCALENDAR
VERSION:2.0
PRODID:-//Idu House - ECPv6.15.20//NONSGML v1.0//EN
CALSCALE:GREGORIAN
METHOD:PUBLISH
X-ORIGINAL-URL:https://iduhouse.com
X-WR-CALDESC:Events for Idu House
REFRESH-INTERVAL;VALUE=DURATION:PT1H
X-Robots-Tag:noindex
X-PUBLISHED-TTL:PT1H
BEGIN:VTIMEZONE
TZID:America/Los_Angeles
BEGIN:DAYLIGHT
TZOFFSETFROM:-0800
TZOFFSETTO:-0700
TZNAME:PDT
DTSTART:20250309T100000
END:DAYLIGHT
BEGIN:STANDARD
TZOFFSETFROM:-0700
TZOFFSETTO:-0800
TZNAME:PST
DTSTART:20251102T090000
END:STANDARD
BEGIN:DAYLIGHT
TZOFFSETFROM:-0800
TZOFFSETTO:-0700
TZNAME:PDT
DTSTART:20260308T100000
END:DAYLIGHT
BEGIN:STANDARD
TZOFFSETFROM:-0700
TZOFFSETTO:-0800
TZNAME:PST
DTSTART:20261101T090000
END:STANDARD
BEGIN:DAYLIGHT
TZOFFSETFROM:-0800
TZOFFSETTO:-0700
TZNAME:PDT
DTSTART:20270314T100000
END:DAYLIGHT
BEGIN:STANDARD
TZOFFSETFROM:-0700
TZOFFSETTO:-0800
TZNAME:PST
DTSTART:20271107T090000
END:STANDARD
END:VTIMEZONE
BEGIN:VEVENT
DTSTART;TZID=America/Los_Angeles:20260509T130000
DTEND;TZID=America/Los_Angeles:20260509T160000
DTSTAMP:20260420T063916
CREATED:20251113T035850Z
LAST-MODIFIED:20251113T041550Z
UID:10000007-1778331600-1778342400@iduhouse.com
SUMMARY:Idu House Sound Sessions: Vol. 6
DESCRIPTION:Welcome to Idu House Sound Sessions\, a live exploration of sound\, culture\, and community. Broadcast from creative spaces that inspire us — including our home base at Mars Records in Oakland — each session invites listeners into the evolving world of Idu House. \nAcross every mix\, we blend texture and rhythm to tell a story. Expect genre-fluid selections\, deep cuts\, unexpected turns\, and moments that blur the line between past and future. Whether it’s a sunrise groove\, a late-night transmission\, or a special collaboration\, every Sound Session is about connection — to self\, to rhythm\, and to each other. \nAbout Idu House\nIdu House is a multidisciplinary creative studio and collective built on collaboration\, experimentation\, and cultural expression. The Sound Sessions are our way of sharing that energy with the world: an ongoing series celebrating discovery through sound. \nTune in\, tap in\, and find your frequency.
URL:https://iduhouse.com/event/idu-house-sound-sessions-vol-6
LOCATION:Virtual: Twitch Stream
END:VEVENT
BEGIN:VEVENT
DTSTART;TZID=America/Los_Angeles:20260509T180000
DTEND;TZID=America/Los_Angeles:20260509T230000
DTSTAMP:20260420T063916
CREATED:20260116T023847Z
LAST-MODIFIED:20260116T024243Z
UID:10000019-1778349600-1778367600@iduhouse.com
SUMMARY:4th Space (Co-hosted with Love Supreme SF)
DESCRIPTION:Enter the 4th Space. A night where sound\, community\, and creative energy come together to spark something new. This edition of 4th Space is co hosted with Love Supreme SF\, bringing together two collectives rooted in music\, culture\, and connection. \nThe night opens with a curated DJ set from Idu House\, setting the tone through soul\, hip hop\, house\, and global rhythms. Bay Area artist E’mani Aurielle headlines the evening with a live performance that reflects the spirit of discovery and expression at the heart of the Fourth Space. Love Supreme SF closes out the night with a DJ set designed to carry the energy forward. \n4th Space is built for artists\, music lovers\, creators\, and anyone who finds inspiration in shared sound. Each gathering celebrates community while honoring the Fourth Space philosophy as a place of beginnings and becoming. \nWelcome to the 4th Space. A place of beginnings. A place for becoming.
URL:https://iduhouse.com/event/4th-space-vallejo
LOCATION:Empress Theater\, 330 Virginia St\, Vallejo\, CA\, 94590\, United States
CATEGORIES:4th Space
ORGANIZER;CN="Idu House":MAILTO:Info@IduHouse.com
END:VEVENT
END:VCALENDAR