BEGIN:VCALENDAR
VERSION:2.0
PRODID:-//Idu House - ECPv6.15.20//NONSGML v1.0//EN
CALSCALE:GREGORIAN
METHOD:PUBLISH
X-WR-CALNAME:Idu House
X-ORIGINAL-URL:https://iduhouse.com
X-WR-CALDESC:Events for Idu House
REFRESH-INTERVAL;VALUE=DURATION:PT1H
X-Robots-Tag:noindex
X-PUBLISHED-TTL:PT1H
BEGIN:VTIMEZONE
TZID:America/Los_Angeles
BEGIN:DAYLIGHT
TZOFFSETFROM:-0800
TZOFFSETTO:-0700
TZNAME:PDT
DTSTART:20250309T100000
END:DAYLIGHT
BEGIN:STANDARD
TZOFFSETFROM:-0700
TZOFFSETTO:-0800
TZNAME:PST
DTSTART:20251102T090000
END:STANDARD
BEGIN:DAYLIGHT
TZOFFSETFROM:-0800
TZOFFSETTO:-0700
TZNAME:PDT
DTSTART:20260308T100000
END:DAYLIGHT
BEGIN:STANDARD
TZOFFSETFROM:-0700
TZOFFSETTO:-0800
TZNAME:PST
DTSTART:20261101T090000
END:STANDARD
BEGIN:DAYLIGHT
TZOFFSETFROM:-0800
TZOFFSETTO:-0700
TZNAME:PDT
DTSTART:20270314T100000
END:DAYLIGHT
BEGIN:STANDARD
TZOFFSETFROM:-0700
TZOFFSETTO:-0800
TZNAME:PST
DTSTART:20271107T090000
END:STANDARD
END:VTIMEZONE
BEGIN:VEVENT
DTSTART;TZID=America/Los_Angeles:20260808T130000
DTEND;TZID=America/Los_Angeles:20260808T160000
DTSTAMP:20260420T121040
CREATED:20251113T042240Z
LAST-MODIFIED:20251113T042240Z
UID:10000009-1786194000-1786204800@iduhouse.com
SUMMARY:Idu House Sound Sessions: Vol. 8
DESCRIPTION:Welcome to Idu House Sound Sessions\, a live exploration of sound\, culture\, and community. Broadcast from creative spaces that inspire us — including our home base at Mars Records in Oakland — each session invites listeners into the evolving world of Idu House. \nAcross every mix\, we blend texture and rhythm to tell a story. Expect genre-fluid selections\, deep cuts\, unexpected turns\, and moments that blur the line between past and future. Whether it’s a sunrise groove\, a late-night transmission\, or a special collaboration\, every Sound Session is about connection — to self\, to rhythm\, and to each other. \nAbout Idu House\nIdu House is a multidisciplinary creative studio and collective built on collaboration\, experimentation\, and cultural expression. The Sound Sessions are our way of sharing that energy with the world: an ongoing series celebrating discovery through sound. \nTune in\, tap in\, and find your frequency.
URL:https://iduhouse.com/event/idu-house-sound-sessions-vol-8
LOCATION:Virtual: Twitch Stream
END:VEVENT
END:VCALENDAR