BEGIN:VCALENDAR
VERSION:2.0
PRODID:-//Idu House - ECPv6.15.20//NONSGML v1.0//EN
CALSCALE:GREGORIAN
METHOD:PUBLISH
X-WR-CALNAME:Idu House
X-ORIGINAL-URL:https://iduhouse.com
X-WR-CALDESC:Events for Idu House
REFRESH-INTERVAL;VALUE=DURATION:PT1H
X-Robots-Tag:noindex
X-PUBLISHED-TTL:PT1H
BEGIN:VTIMEZONE
TZID:America/Los_Angeles
BEGIN:DAYLIGHT
TZOFFSETFROM:-0800
TZOFFSETTO:-0700
TZNAME:PDT
DTSTART:20250309T100000
END:DAYLIGHT
BEGIN:STANDARD
TZOFFSETFROM:-0700
TZOFFSETTO:-0800
TZNAME:PST
DTSTART:20251102T090000
END:STANDARD
BEGIN:DAYLIGHT
TZOFFSETFROM:-0800
TZOFFSETTO:-0700
TZNAME:PDT
DTSTART:20260308T100000
END:DAYLIGHT
BEGIN:STANDARD
TZOFFSETFROM:-0700
TZOFFSETTO:-0800
TZNAME:PST
DTSTART:20261101T090000
END:STANDARD
BEGIN:DAYLIGHT
TZOFFSETFROM:-0800
TZOFFSETTO:-0700
TZNAME:PDT
DTSTART:20270314T100000
END:DAYLIGHT
BEGIN:STANDARD
TZOFFSETFROM:-0700
TZOFFSETTO:-0800
TZNAME:PST
DTSTART:20271107T090000
END:STANDARD
END:VTIMEZONE
BEGIN:VEVENT
DTSTART;TZID=America/Los_Angeles:20260905T130000
DTEND;TZID=America/Los_Angeles:20260905T160000
DTSTAMP:20260420T163647
CREATED:20251113T081323Z
LAST-MODIFIED:20251113T081323Z
UID:10000010-1788613200-1788624000@iduhouse.com
SUMMARY:Idu House Sound Sessions: Vol. 9
DESCRIPTION:Welcome to Idu House Sound Sessions\, a live exploration of sound\, culture\, and community. Broadcast from creative spaces that inspire us — including our home base at Mars Records in Oakland — each session invites listeners into the evolving world of Idu House. \nAcross every mix\, we blend texture and rhythm to tell a story. Expect genre-fluid selections\, deep cuts\, unexpected turns\, and moments that blur the line between past and future. Whether it’s a sunrise groove\, a late-night transmission\, or a special collaboration\, every Sound Session is about connection — to self\, to rhythm\, and to each other. \nAbout Idu House\nIdu House is a multidisciplinary creative studio and collective built on collaboration\, experimentation\, and cultural expression. The Sound Sessions are our way of sharing that energy with the world: an ongoing series celebrating discovery through sound. \nTune in\, tap in\, and find your frequency.
URL:https://iduhouse.com/event/idu-house-sound-sessions-vol-9
LOCATION:Virtual: Twitch Stream
ORGANIZER;CN="Idu House":MAILTO:Info@IduHouse.com
END:VEVENT
BEGIN:VEVENT
DTSTART;TZID=America/Los_Angeles:20261010T130000
DTEND;TZID=America/Los_Angeles:20261010T160000
DTSTAMP:20260420T163648
CREATED:20251113T082009Z
LAST-MODIFIED:20251113T082341Z
UID:10000011-1791637200-1791648000@iduhouse.com
SUMMARY:Idu House Sound Sessions: Vol. 10
DESCRIPTION:Welcome to Idu House Sound Sessions\, a live exploration of sound\, culture\, and community. Broadcast from creative spaces that inspire us — including our home base at Mars Records in Oakland — each session invites listeners into the evolving world of Idu House. \nAcross every mix\, we blend texture and rhythm to tell a story. Expect genre-fluid selections\, deep cuts\, unexpected turns\, and moments that blur the line between past and future. Whether it’s a sunrise groove\, a late-night transmission\, or a special collaboration\, every Sound Session is about connection — to self\, to rhythm\, and to each other. \nAbout Idu House\nIdu House is a multidisciplinary creative studio and collective built on collaboration\, experimentation\, and cultural expression. The Sound Sessions are our way of sharing that energy with the world: an ongoing series celebrating discovery through sound. \nTune in\, tap in\, and find your frequency.
URL:https://iduhouse.com/event/idu-house-sound-sessions-vol-9-2
LOCATION:Virtual: Twitch Stream
ORGANIZER;CN="Idu House":MAILTO:Info@IduHouse.com
END:VEVENT
BEGIN:VEVENT
DTSTART;TZID=America/Los_Angeles:20261107T130000
DTEND;TZID=America/Los_Angeles:20261107T160000
DTSTAMP:20260420T163648
CREATED:20251113T082250Z
LAST-MODIFIED:20251113T082250Z
UID:10000012-1794056400-1794067200@iduhouse.com
SUMMARY:Idu House Sound Sessions: Vol. 11
DESCRIPTION:Welcome to Idu House Sound Sessions\, a live exploration of sound\, culture\, and community. Broadcast from creative spaces that inspire us — including our home base at Mars Records in Oakland — each session invites listeners into the evolving world of Idu House. \nAcross every mix\, we blend texture and rhythm to tell a story. Expect genre-fluid selections\, deep cuts\, unexpected turns\, and moments that blur the line between past and future. Whether it’s a sunrise groove\, a late-night transmission\, or a special collaboration\, every Sound Session is about connection — to self\, to rhythm\, and to each other. \nAbout Idu House\nIdu House is a multidisciplinary creative studio and collective built on collaboration\, experimentation\, and cultural expression. The Sound Sessions are our way of sharing that energy with the world: an ongoing series celebrating discovery through sound. \nTune in\, tap in\, and find your frequency.
URL:https://iduhouse.com/event/idu-house-sound-sessions-vol-11
LOCATION:Virtual: Twitch Stream
ORGANIZER;CN="Idu House":MAILTO:Info@IduHouse.com
END:VEVENT
BEGIN:VEVENT
DTSTART;TZID=America/Los_Angeles:20261212T130000
DTEND;TZID=America/Los_Angeles:20261212T160000
DTSTAMP:20260420T163648
CREATED:20251113T082851Z
LAST-MODIFIED:20251113T082948Z
UID:10000013-1797080400-1797091200@iduhouse.com
SUMMARY:Idu House Sound Sessions: Vol. 12 (Anniversary Set)
DESCRIPTION:Welcome to Idu House Sound Sessions\, a live exploration of sound\, culture\, and community. Broadcast from creative spaces that inspire us — including our home base at Mars Records in Oakland — each session invites listeners into the evolving world of Idu House. \nAcross every mix\, we blend texture and rhythm to tell a story. Expect genre-fluid selections\, deep cuts\, unexpected turns\, and moments that blur the line between past and future. Whether it’s a sunrise groove\, a late-night transmission\, or a special collaboration\, every Sound Session is about connection — to self\, to rhythm\, and to each other. \nAbout Idu House\nIdu House is a multidisciplinary creative studio and collective built on collaboration\, experimentation\, and cultural expression. The Sound Sessions are our way of sharing that energy with the world: an ongoing series celebrating discovery through sound. \nTune in\, tap in\, and find your frequency.
URL:https://iduhouse.com/event/idu-house-sound-sessions-vol-12-anniversary-set
LOCATION:Mars Records\, 4125 Piedmont Ave #7\, Oakland\, CA\, 94611\, United States
ORGANIZER;CN="Idu House":MAILTO:Info@IduHouse.com
END:VEVENT
BEGIN:VEVENT
DTSTART;TZID=America/Los_Angeles:20261219T170000
DTEND;TZID=America/Los_Angeles:20261219T233000
DTSTAMP:20260420T163648
CREATED:20251126T053947Z
LAST-MODIFIED:20251219T163809Z
UID:10000017-1797699600-1797723000@iduhouse.com
SUMMARY:4th Space
DESCRIPTION:Enter the 4th Space. A night where sound\, community\, and creative energy come together to spark something new. Designed for people who want more than a party\, the 4th Space creates an environment for connection\, exploration\, and growth. \nThe experience moves through soul\, hip hop\, house\, and global rhythms\, with intentional sets and carefully crafted transitions. Every moment is an invitation to feel\, connect\, and step into a new version of yourself. \n4th Space is built for artists\, music lovers\, creators\, and anyone who finds inspiration in shared sound. Each gathering celebrates community and expression while honoring the Fourth Space philosophy as a place of beginnings and becoming. \nWelcome to the 4th Space. A place of beginnings. A place for becoming.
URL:https://iduhouse.com/event/4th-space-4
LOCATION:Brooklyn\, NY\, United States
CATEGORIES:4th Space
ORGANIZER;CN="Idu House":MAILTO:Info@IduHouse.com
END:VEVENT
END:VCALENDAR