BEGIN:VCALENDAR
VERSION:2.0
PRODID:-//Idu House - ECPv6.15.20//NONSGML v1.0//EN
CALSCALE:GREGORIAN
METHOD:PUBLISH
X-WR-CALNAME:Idu House
X-ORIGINAL-URL:https://iduhouse.com
X-WR-CALDESC:Events for Idu House
REFRESH-INTERVAL;VALUE=DURATION:PT1H
X-Robots-Tag:noindex
X-PUBLISHED-TTL:PT1H
BEGIN:VTIMEZONE
TZID:America/Los_Angeles
BEGIN:DAYLIGHT
TZOFFSETFROM:-0800
TZOFFSETTO:-0700
TZNAME:PDT
DTSTART:20250309T100000
END:DAYLIGHT
BEGIN:STANDARD
TZOFFSETFROM:-0700
TZOFFSETTO:-0800
TZNAME:PST
DTSTART:20251102T090000
END:STANDARD
BEGIN:DAYLIGHT
TZOFFSETFROM:-0800
TZOFFSETTO:-0700
TZNAME:PDT
DTSTART:20260308T100000
END:DAYLIGHT
BEGIN:STANDARD
TZOFFSETFROM:-0700
TZOFFSETTO:-0800
TZNAME:PST
DTSTART:20261101T090000
END:STANDARD
BEGIN:DAYLIGHT
TZOFFSETFROM:-0800
TZOFFSETTO:-0700
TZNAME:PDT
DTSTART:20270314T100000
END:DAYLIGHT
BEGIN:STANDARD
TZOFFSETFROM:-0700
TZOFFSETTO:-0800
TZNAME:PST
DTSTART:20271107T090000
END:STANDARD
END:VTIMEZONE
BEGIN:VEVENT
DTSTART;TZID=America/Los_Angeles:20260307T110000
DTEND;TZID=America/Los_Angeles:20260307T130000
DTSTAMP:20260420T063354
CREATED:20251106T091959Z
LAST-MODIFIED:20251113T034706Z
UID:10000003-1772881200-1772888400@iduhouse.com
SUMMARY:Idu House Story Sessions: Orientation
DESCRIPTION:About the Class\nStep into the world of Idu House Story Sessions\, a creative storytelling lab led by screenwriter and director Aaron Caldwell. Each session invites participants to explore the art of cinematic storytelling—where words\, vision\, and sound converge to create emotion. \nThis isn’t just a class; it’s a creative journey. Across a series of workshops\, participants will learn to shape stories from concept to screen\, uncovering how every frame carries meaning. Through writing exercises\, scene breakdowns\, and collaborative direction\, you’ll learn how to think\, see\, and feel like a filmmaker—no matter your experience level. \nThe goal is simple: to help you discover your voice\, translate emotion into motion\, and reimagine storytelling as both craft and calling. \nThe Vision\nIdu House is a creative studio and collective built on collaboration and culture. The Story Sessions are where we open the doors to our storytelling process—sharing the techniques\, ideas\, and philosophies that shape how we see the world. Whether you’re an emerging writer\, filmmaker\, or simply curious about how stories move us\, this is your invitation to step behind the lens and into the house.
URL:https://iduhouse.com/event/idu-house-story-sessions-orientation
LOCATION:Virtual: Zoom
END:VEVENT
BEGIN:VEVENT
DTSTART;TZID=America/Los_Angeles:20260314T130000
DTEND;TZID=America/Los_Angeles:20260314T160000
DTSTAMP:20260420T063354
CREATED:20251113T034559Z
LAST-MODIFIED:20251113T041642Z
UID:10000005-1773493200-1773504000@iduhouse.com
SUMMARY:Idu House Sound Sessions: Vol. 4
DESCRIPTION:Welcome to Idu House Sound Sessions\, a live exploration of sound\, culture\, and community. Broadcast from creative spaces that inspire us — including our home base at Mars Records in Oakland — each session invites listeners into the evolving world of Idu House. \nAcross every mix\, we blend texture and rhythm to tell a story. Expect genre-fluid selections\, deep cuts\, unexpected turns\, and moments that blur the line between past and future. Whether it’s a sunrise groove\, a late-night transmission\, or a special collaboration\, every Sound Session is about connection — to self\, to rhythm\, and to each other. \nAbout Idu House\nIdu House is a multidisciplinary creative studio and collective built on collaboration\, experimentation\, and cultural expression. The Sound Sessions are our way of sharing that energy with the world: an ongoing series celebrating discovery through sound. \nTune in\, tap in\, and find your frequency.
URL:https://iduhouse.com/event/idu-house-sound-sessions-vol-4
LOCATION:Virtual: Twitch Stream
END:VEVENT
END:VCALENDAR